BEGIN:VCALENDAR
VERSION:2.0
PRODID:-//Edgewood - ECPv6.15.20//NONSGML v1.0//EN
CALSCALE:GREGORIAN
METHOD:PUBLISH
X-WR-CALNAME:Edgewood
X-ORIGINAL-URL:https://www.edgewoodpa.com
X-WR-CALDESC:Events for Edgewood
REFRESH-INTERVAL;VALUE=DURATION:PT1H
X-Robots-Tag:noindex
X-PUBLISHED-TTL:PT1H
BEGIN:VTIMEZONE
TZID:UTC
BEGIN:STANDARD
TZOFFSETFROM:+0000
TZOFFSETTO:+0000
TZNAME:UTC
DTSTART:20250101T000000
END:STANDARD
END:VTIMEZONE
BEGIN:VEVENT
DTSTART;TZID=UTC:20260613T180000
DTEND;TZID=UTC:20260613T200000
DTSTAMP:20260425T143125
CREATED:20260417T143218Z
LAST-MODIFIED:20260417T143218Z
UID:10000068-1781373600-1781380800@www.edgewoodpa.com
SUMMARY:Mel Rivers
DESCRIPTION:
URL:https://www.edgewoodpa.com/event/mel-rivers-4/
LOCATION:Pints & Paws Beer Garden\, 22 Edgewood Ln\, Drums\, PA\, 18222\, United States
CATEGORIES:Pints
END:VEVENT
BEGIN:VEVENT
DTSTART;TZID=UTC:20260618T180000
DTEND;TZID=UTC:20260618T200000
DTSTAMP:20260425T143125
CREATED:20260417T143309Z
LAST-MODIFIED:20260417T143309Z
UID:10000069-1781805600-1781812800@www.edgewoodpa.com
SUMMARY:Drunk & Sober
DESCRIPTION:
URL:https://www.edgewoodpa.com/event/drunk-sober-3/
LOCATION:Pints & Paws Beer Garden\, 22 Edgewood Ln\, Drums\, PA\, 18222\, United States
CATEGORIES:Pints
END:VEVENT
BEGIN:VEVENT
DTSTART;TZID=UTC:20260620T170000
DTEND;TZID=UTC:20260620T210000
DTSTAMP:20260425T143125
CREATED:20260417T143704Z
LAST-MODIFIED:20260417T143704Z
UID:10000070-1781974800-1781989200@www.edgewoodpa.com
SUMMARY:Father/Child 9 & Dine
DESCRIPTION:9 Hole Two Man Scramble with Buffet Dinner to follow.   Father/Child Teams of all ages welcome. \nPrizes Awarded for Top Finishers\, Closest To Pin\, Father/Child Look Alike
URL:https://www.edgewoodpa.com/event/father-child-9-dine/
LOCATION:Pints & Paws Beer Garden\, 22 Edgewood Ln\, Drums\, PA\, 18222\, United States
CATEGORIES:Pints
END:VEVENT
BEGIN:VEVENT
DTSTART;TZID=UTC:20260621T130000
DTEND;TZID=UTC:20260621T160000
DTSTAMP:20260425T143125
CREATED:20260417T143819Z
LAST-MODIFIED:20260417T143916Z
UID:10000071-1782046800-1782057600@www.edgewoodpa.com
SUMMARY:Tom Molinaro - Pints & Paws Father's Day Cookout
DESCRIPTION:
URL:https://www.edgewoodpa.com/event/tom-molinaro-pints-paws-fathers-day-cookout/
LOCATION:Pints & Paws Beer Garden\, 22 Edgewood Ln\, Drums\, PA\, 18222\, United States
CATEGORIES:Pints
END:VEVENT
BEGIN:VEVENT
DTSTART;TZID=UTC:20260625T180000
DTEND;TZID=UTC:20260625T200000
DTSTAMP:20260425T143125
CREATED:20260417T144003Z
LAST-MODIFIED:20260417T144003Z
UID:10000072-1782410400-1782417600@www.edgewoodpa.com
SUMMARY:2 for 1
DESCRIPTION:
URL:https://www.edgewoodpa.com/event/2-for-1/
LOCATION:Pints & Paws Beer Garden\, 22 Edgewood Ln\, Drums\, PA\, 18222\, United States
CATEGORIES:Pints
END:VEVENT
BEGIN:VEVENT
DTSTART;TZID=UTC:20260627T180000
DTEND;TZID=UTC:20260627T210000
DTSTAMP:20260425T143125
CREATED:20260417T144138Z
LAST-MODIFIED:20260417T144138Z
UID:10000073-1782583200-1782594000@www.edgewoodpa.com
SUMMARY:80's Night with ALV
DESCRIPTION:
URL:https://www.edgewoodpa.com/event/80s-night-with-alv/
LOCATION:Pints & Paws Beer Garden\, 22 Edgewood Ln\, Drums\, PA\, 18222\, United States
CATEGORIES:Pints
END:VEVENT
END:VCALENDAR